BEGIN:VCALENDAR
VERSION:2.0
PRODID:-//KackaLukas//Wedding//CS
CALSCALE:GREGORIAN
METHOD:PUBLISH
BEGIN:VEVENT
UID:svatba-kacka-lukas-20260829@example
DTSTAMP:20260218T000000Z
SUMMARY:Svatba Kačka & Lukáš
DTSTART;TZID=Europe/Prague:20260829T120000
DTEND;TZID=Europe/Prague:20260830T000000
LOCATION:Statek Nechánice
END:VEVENT
END:VCALENDAR
